BEGIN:VCALENDAR
VERSION:2.0
PRODID:-//Инструктор по стрельбе в Варшаве - ECPv6.15.20//NONSGML v1.0//EN
CALSCALE:GREGORIAN
METHOD:PUBLISH
X-ORIGINAL-URL:https://shooting-instructor.pl
X-WR-CALDESC:Мероприятия для Инструктор по стрельбе в Варшаве
REFRESH-INTERVAL;VALUE=DURATION:PT1H
X-Robots-Tag:noindex
X-PUBLISHED-TTL:PT1H
BEGIN:VTIMEZONE
TZID:UTC
BEGIN:STANDARD
TZOFFSETFROM:+0000
TZOFFSETTO:+0000
TZNAME:UTC
DTSTART:20240101T000000
END:STANDARD
END:VTIMEZONE
BEGIN:VEVENT
DTSTART;TZID=UTC:20250322T090000
DTEND;TZID=UTC:20250323T170000
DTSTAMP:20260420T093446
CREATED:20241204T115806Z
LAST-MODIFIED:20241204T115806Z
UID:25817-1742634000-1742749200@shooting-instructor.pl
SUMMARY:Tactical Pistol Level II - 22/3-23/3/25
DESCRIPTION:Тактический пистолет\, уровень второй\n\n\n\n\nКурс по тактическому использованию пистолета ( уровень второй) — это зксклюзивный и насыщенный  курс для продвинутых стрелков\, закончивших базисный курс или для имеющих практический опыт использования короткоствольного оружия в реальных условиях. Курс посторен таким образом\, что идеально подойдет для новичков и будет интересен и для профессионалов. \nОдна из основных идей и методик\, основанных на опыте огневой подготовки израильских военных\, полицейских и групп специального назначения — это использование инстинктов \, анатомии и психологии любого человека попадающего в стрессовую ситуацию. Мы учим Вас реагировать однозначно\, быстро и эффективно. Мы слабо верим в то\, что в реальной ситуации у Вас окажется профессиональное снаряжение и Вы будете готовы к происходящему. Скорее всего\, в лучшем случае\, Вы будете с одним пистолетом и максимум — одним запасным магазином\,простой кобурой под майкой . Вокруг будет много помех и людей не причастный к конфликту… \nВторой уровень курса Тактического Пистолета — это большое количество упражнений и сценариев\, с применением тактики ведения боя с элементами CQB \nДва дня обучения\, 16-17 часов реальных тренировок\, 600 выстрелов. \nЦена — начиная от 550Евро ( для имеющих свое оружия и аммуницию) и от 650 Евро с полным нашим обеспечением ( оружие\, аммуниция\, снаряжение). \nУспешно закончившие курс получают сертификат от Israeli Tactical Combat School. \n\n\n\n\nДля получении полной информации\, дат и записи — просьба выслать маил на idan.caliber@gmail.com
URL:https://shooting-instructor.pl/event/tactical-pistol-level-ii-22-3-23-3-25/
LOCATION:Strzelnica MAGNUS\, Stefana Okrzei 3\,\, Milanówek\, 05-822\, Польша
ATTACH;FMTTYPE=image/jpeg:https://shooting-instructor.pl/wp-content/uploads/2023/01/tactical-pistol-level2-p3-scaled.jpg
ORGANIZER;CN="Israeli Tactical Combat School":MAILTO:idan.caliber@gmail.com
END:VEVENT
END:VCALENDAR